Workbook

Sheet Stelleninfo
A1: NACHFOLGEPLANUNG auf Funktions-/Personenebene
A2: Informationen zur Stelle
A4: 1 | B4: Nachzubesetzende Funktion/Person
B6: Stellenbezeichnung: | F6: Aktuelle*r Stelleninhaber*in:
B7: Organisationsbereich: | F7: Neue*r Stelleninhaber*in:
A9: 2 | B9: Anmerkungen zu Stelle und Stelleninhaber*in
B11: Wird die Stelle in der derzeitige Form weiterbestehen? | F11: Wenn nicht, welche Änderungen sind geplant?
B12: Ja
B14: Welche Anforderungen gehen mit der Stellenausübung einher? | F14: Woran erkennt man, dass die Person für die Stelle geeignet ist?
B15: Berufsausbildung:
B16: Berufserfahrung:
B17: fachliche Anforderungen:
B18: fachunabhängige Anforderungen:
B20: Besondere Merkmale der Stelle: | F20: Besondere Merkmale des*r Stelleninhaber*in:

Sheet Eingabe_Parameter
A1: NACHFOLGEPLANUNG auf Funktions-/Personenebene
A2: Berechnung Nachfolgeszenario
A4: 1 | B4: Angaben zum Austrittsdatum
B6: Offizielles Austrittsdatum Stelleninhaber*in:
B7: Tatsächliches Austrittsdatum Stelleninhaber*in: (wegen Resturlaub, Kuraufenthalten, Altersteilzeit, etc) | D7: 46418
A9: 2 | B9: Angaben zur Nachbesetzung:
B10: Szenarios: | D10: Interne Nachbesetzung | F10: Externe Nachbesetzung
B11: Dauer Such- & Auswahlprozess bis zur Einstellung/Versetzung: | D11: 20 | E11: Tage | F11: 90 | G11: Tage
B13: Dauer Qualifizierungen vor Stellenantritt: (Ausbildungen, Fortbildungen falls nötig) | D13: 20 | E13: Tage | F13: 5 | G13: Tage
B15: Dauer Einarbeitung bis Befähigung Stellenübernahme: (unternehmens-, bereichs-, stellenspezifische Einführung) | D15: 90 | E15: Tage | F15: 120 | G15: Tage

Sheet Szenario_chronologisch
A1: NACHFOLGEPLANUNG auf Funktions-/Personenebene
A2: Berechnung Nachfolgeszenario - chronologische Abfolge
A4: 1 | B4: Berechnungen
D5: Interne Nachbesetzung | F5: Externe Nachbesetzung
B6: Such- & Auswahlprozess bis zur Einstellung/Versetzung: | C6: Start: | D6: =D7-Eingabe_Parameter!$D$11 -> 46288 | E6: Start: | F6: =F7-Eingabe_Parameter!$F$11 -> 46203
C7: Ende: | D7: =D9 -> 46308 | E7: Ende: | F7: =F9 -> 46293
B9: Qualifizierungen vor Stellenantritt: (Ausbildungen, Fortbildungen falls nötig) | C9: Start: | D9: =D10-Eingabe_Parameter!$D$13 -> 46308 | E9: Start: | F9: =F10-Eingabe_Parameter!$F$13 -> 46293
C10: Ende: | D10: =D12 -> 46328 | E10: Ende: | F10: =F12 -> 46298
B12: Einarbeitung bis Befähigung Stellenübernahme: (unternehmens-, bereichs-, stellenspezifische Einführung) | C12: Start: | D12: =D13-Eingabe_Parameter!$D$15 -> 46328 | E12: Start: | F12: =F13-Eingabe_Parameter!$F$15 -> 46298
C13: Ende: | D13: =Eingabe_Parameter!$D$7 -> 46418 | E13: Ende: | F13: =Eingabe_Parameter!$D$7 -> 46418
B15: Mindesgesamtdauer Nachfolgeprozess in Tagen: | D15: =D13-D6 -> 130 | F15: =F13-F6 -> 215
B16: Spätmöglichster Start des Nachfolgeprozesses: | D16: =D6 -> 46288 | F16: =F6 -> 46203
A18: 2 | B18: Ergebnisse
B20: Auswahl Nachfolgeszenario: | C20: Externe Nachbesetzung
C22: Start | D22: Ende | E22: Dauer
B23: 3. Einarbeitungsphase bis Befähigung Stellenübernahme | C23: =IF($C$20=Index!$B$5,D12,IF($C$20=Index!$B$6,F12)) -> 46298 | D23: =IF($C$20=Index!$B$5,D13,IF($C$20=Index!$B$6,F13)) -> 46418 | E23: =ROUNDDOWN(($D23-$C23),0) -> 120
B24: 2. Qualifizierungsphase vor Stellenantritt | C24: =IF($C$20=Index!$B$5,D9,IF($C$20=Index!$B$6,F9)) -> 46293 | D24: =IF($C$20=Index!$B$5,D10,IF($C$20=Index!$B$6,F10)) -> 46298 | E24: =ROUNDDOWN(($D24-$C24),0) -> 5
B25: 1. Such- & Auswahlphase bis Einstellung/Versetzung | C25: =IF($C$20=Index!$B$5,D6,IF($C$20=Index!$B$6,F6)) -> 46203 | D25: =IF($C$20=Index!$B$5,D7,IF($C$20=Index!$B$6,F7)) -> 46293 | E25: =ROUNDDOWN(($D25-$C25),0) -> 90
B26: Austrittsphase derzeitige/r Stelleninhaber*in | C26: =IF($C$20=Index!$B$5,D16,IF($C$20=Index!$B$6,F16)) -> 46203 | D26: =Eingabe_Parameter!$D$7 -> 46418 | E26: =ROUNDDOWN(($D26-$C26),0) -> 215

Sheet Szenario_manuell
A1: NACHFOLGEPLANUNG auf Funktions-/Personenebene
A2: Berechnung Nachfolgeszenario - manuell
A4: 1 | B4: Berechnungen
D5: Interne Nachbesetzung | F5: Externe Nachbesetzung
B6: Such- & Auswahlprozess bis zur Einstellung/Versetzung: | C6: Start: | D6: 43335 | E6: Start: | F6: =F7-Eingabe_Parameter!$F$11 -> 46203
C7: Ende: | D7: =D6+Eingabe_Parameter!D11 -> 43355 | E7: Ende: | F7: =F9 -> 46293
B9: Qualifizierungen vor Stellenantritt: (Ausbildungen, Fortbildungen falls nötig) | C9: Start: | D9: 43355 | E9: Start: | F9: =F10-Eingabe_Parameter!$F$13 -> 46293
C10: Ende: | D10: =D9+Eingabe_Parameter!D13 -> 43375 | E10: Ende: | F10: =F12 -> 46298
B12: Einarbeitung bis Befähigung Stellenübernahme: (unternehmens-, bereichs-, stellenspezifische Einführung) | C12: Start: | D12: 43375 | E12: Start: | F12: =F13-Eingabe_Parameter!$F$15 -> 46298
C13: Ende: | D13: =D12+Eingabe_Parameter!D15 -> 43465 | E13: Ende: | F13: =Eingabe_Parameter!$D$7 -> 46418
B15: Mindesgesamtdauer Nachfolgeprozess in Tagen: | D15: =D13-D6 -> 130 | F15: =F13-F6 -> 215
B16: Spätmöglichster Start des Nachfolgeprozesses: | D16: =D6 -> 43335 | F16: =F6 -> 46203
A18: 2 | B18: Ergebnisse
B20: Auswahl Nachfolgeszenario: | C20: Interne Nachbesetzung
C22: Start | D22: Ende | E22: Dauer
B23: 3. Einarbeitungsphase bis Befähigung Stellenübernahme | C23: =IF($C$20=Index!$B$5,D12,IF($C$20=Index!$B$6,F12)) -> 43375 | D23: =IF($C$20=Index!$B$5,D13,IF($C$20=Index!$B$6,F13)) -> 43465 | E23: =ROUNDDOWN(($D23-$C23),0) -> 90
B24: 2. Qualifizierungsphase vor Stellenantritt | C24: =IF($C$20=Index!$B$5,D9,IF($C$20=Index!$B$6,F9)) -> 43355 | D24: =IF($C$20=Index!$B$5,D10,IF($C$20=Index!$B$6,F10)) -> 43375 | E24: =ROUNDDOWN(($D24-$C24),0) -> 20
B25: 1. Such- & Auswahlphase bis Einstellung/Versetzung | C25: =IF($C$20=Index!$B$5,D6,IF($C$20=Index!$B$6,F6)) -> 43335 | D25: =IF($C$20=Index!$B$5,D7,IF($C$20=Index!$B$6,F7)) -> 43355 | E25: =ROUNDDOWN(($D25-$C25),0) -> 20
B26: Austrittsphase derzeitige*r Stelleninhaber*in | C26: =IF($C$20=Index!$B$5,D16,IF($C$20=Index!$B$6,F16)) -> 43335 | D26: =Eingabe_Parameter!$D$7 -> 46418 | E26: =ROUNDDOWN(($D26-$C26),0) -> 3083

Sheet Index
A1: Index
A2: Angaben
A4: Fortbestand der Stelle | B4: Szenario
A5: Ja | B5: Interne Nachbesetzung | C5: chronologische Abfolge
A6: Nein | B6: Externe Nachbesetzung | C6: manuelle Festsetzung Starttermine
